BEGIN:VCALENDAR
VERSION:2.0
PRODID:-//Squarespace Inc/Squarespace 6//v6//EN
BEGIN:VEVENT
UID:58ed7ba7d482e95365b1700c@squarespace.com
DTSTAMP:20170427T003243Z
DTSTART:20170718T010000Z
DTEND:20170720T020000Z
SUMMARY:Workshop 2: PSP40416 Certificate IV in Government Investigations
GEO:-35.238161;149.084087
LOCATION:ACFEC\, University of Canberra\, Bruce\, Australia
END:VEVENT
END:VCALENDAR
