BEGIN:VCALENDAR
VERSION:2.0
PRODID:-//Squarespace Inc/Squarespace 6//v6//EN
BEGIN:VEVENT
UID:58ed96cbb8a79b8da9fef5c2@squarespace.com
DTSTAMP:20170412T030717Z
DTSTART:20170625T230000Z
DTEND:20170630T070000Z
SUMMARY:Professional Financial Crime Control Program
GEO:-35.238161;149.084087
LOCATION:ACFEC\, University of Canberra\, Bruce\, Australia
END:VEVENT
END:VCALENDAR
