BEGIN:VCALENDAR
VERSION:2.0
PRODID:-//Squarespace Inc/Squarespace 6//v6//EN
BEGIN:VEVENT
UID:58ed78a2bebafb4f3118f577@squarespace.com
DTSTAMP:20170412T041519Z
DTSTART:20170528T230000Z
DTEND:20170601T070000Z
SUMMARY:Workshop 1: PSP40416 Certificate IV in Government Investigations 
GEO:-35.238161;149.084087
LOCATION:ACFEC\, University of Canberra\, Bruce\, Australian
END:VEVENT
END:VCALENDAR
