BEGIN:VCALENDAR
VERSION:2.0
PRODID:-//Squarespace Inc/Squarespace 6//v6//EN
BEGIN:VEVENT
UID:58ed7d4346c3c458f838111d@squarespace.com
DTSTAMP:20170412T012218Z
DTSTART:20171030T003000Z
DTEND:20171103T013000Z
SUMMARY:Legal Training for Weeds Officers
GEO:-35.238161;149.084087
LOCATION:ACFEC\, University of Canberra\, Bruce\, Australia
END:VEVENT
END:VCALENDAR
