BEGIN:VCALENDAR
VERSION:2.0
PRODID:-//Squarespace Inc/Squarespace 6//v6//EN
BEGIN:VEVENT
UID:5a601c69f9619a7f8803055b@squarespace.com
DTSTAMP:20180614T031421Z
DTSTART:20180806T230000Z
DTEND:20180809T070000Z
SUMMARY:PSP40416 CERTIFICATE IV IN GOVERNMENT INVESTIGATIONS (WORKSHOP 2) O
 PEN COURSE
END:VEVENT
END:VCALENDAR
