BEGIN:VCALENDAR
VERSION:2.0
PRODID:-//Squarespace Inc/Squarespace 6//v6//EN
BEGIN:VEVENT
UID:5a5fda959140b7dc2ed41ca4@squarespace.com
DTSTAMP:20181018T020527Z
DTSTART:20180827T230000Z
DTEND:20180830T070000Z
SUMMARY:PSP40416 CERTIFICATE IV IN GOVERNMENT INVESTIGATIONS (WORKSHOP 2) F
 OR LLS OFFICERS
END:VEVENT
END:VCALENDAR
