BEGIN:VCALENDAR
VERSION:2.0
PRODID:-//Squarespace Inc/Squarespace 6//v6//EN
BEGIN:VEVENT
UID:5a5fd863ec212d98c9f8d65e@squarespace.com
DTSTAMP:20180706T054432Z
DTSTART:20180729T230000Z
DTEND:20180803T070000Z
SUMMARY:COMPLIANCE AND REGULATORY TRAINING FOR LCA OFFICERS
END:VEVENT
END:VCALENDAR
