BEGIN:VCALENDAR
VERSION:2.0
PRODID:-//Squarespace Inc/Squarespace 6//v6//EN
BEGIN:VEVENT
UID:5a5fd7619140b7dc2ed341cc@squarespace.com
DTSTAMP:20180614T030803Z
DTSTART:20180702T230000Z
DTEND:20180706T070000Z
SUMMARY:PSP40416 CERTIFICATE IV IN GOVERNMENT INVESTIGATIONS (WORKSHOP 1) O
 PEN COURSE 
END:VEVENT
END:VCALENDAR
