BEGIN:VCALENDAR
VERSION:2.0
PRODID:-//Squarespace Inc/Squarespace 6//v6//EN
BEGIN:VEVENT
UID:5a5fd7e424a69456c83ead85@squarespace.com
DTSTAMP:20181018T020140Z
DTSTART:20180723T230000Z
DTEND:20180727T070000Z
SUMMARY:PSP40416 CERTIFICATE IV IN GOVERNMENT INVESTIGATIONS (WORKSHOP 1) F
 OR LLS OFFICERS
END:VEVENT
END:VCALENDAR
