BEGIN:VCALENDAR
VERSION:2.0
PRODID:-//Squarespace Inc/Squarespace 6//v6//EN
BEGIN:VEVENT
UID:5bc7e985e4966bafec4d2c85@squarespace.com
DTSTAMP:20181207T040626Z
DTSTART:20190304T220000Z
DTEND:20190502T070000Z
SUMMARY:PSP40416 CERTIFICATE IV IN GOVERNMENT INVESTIGATIONS - LOCAL LAND S
 ERVICES
END:VEVENT
END:VCALENDAR
