BEGIN:VCALENDAR
VERSION:2.0
PRODID:-//Squarespace Inc/Squarespace 6//v6//EN
BEGIN:VEVENT
UID:5bfb7e4e1ae6cf43c2bad133@squarespace.com
DTSTAMP:20181207T043727Z
DTSTART:20190318T220000Z
DTEND:20190321T060000Z
SUMMARY:BIOSECURITY ACT 2015 REGULATORY TRAINING REFRESHER COURSE - LOCAL L
 AND SERVICES
END:VEVENT
END:VCALENDAR
