BEGIN:VCALENDAR
VERSION:2.0
PRODID:-//Squarespace Inc/Squarespace 6//v6//EN
BEGIN:VEVENT
UID:5bfb7ee68985839163c9281a@squarespace.com
DTSTAMP:20181207T053537Z
DTSTART:20190617T230000Z
DTEND:20190620T070000Z
SUMMARY:BIOSECURITY ACT 2015 REGULATORY TRAINING REFRESHER COURSE - LOCAL L
 AND SERVICES
END:VEVENT
END:VCALENDAR
