BEGIN:VCALENDAR
VERSION:2.0
PRODID:-//Squarespace Inc/Squarespace 6//v6//EN
BEGIN:VEVENT
UID:5bfb81410e2e72602509fe77@squarespace.com
DTSTAMP:20181207T060210Z
DTSTART:20190805T230000Z
DTEND:20190808T070000Z
SUMMARY:BIOSECURITY ACT 2015 REGULATORY TRAINING REFRESHER COURSE - LOCAL L
 AND SERVICES
END:VEVENT
END:VCALENDAR
