BEGIN:VCALENDAR
VERSION:2.0
PRODID:-//Squarespace Inc/Squarespace 6//v6//EN
BEGIN:VEVENT
UID:5bfb7d46c2241bd5011b60f9@squarespace.com
DTSTAMP:20181205T004453Z
DTSTART:20190701T230000Z
DTEND:20190815T070000Z
SUMMARY:PSP40416 CERTIFICATE IV IN GOVERNMENT INVESTIGATIONS - LOCAL LAND S
 ERVICES
END:VEVENT
END:VCALENDAR
