BEGIN:VCALENDAR
VERSION:2.0
PRODID:-//Squarespace Inc/Squarespace 6//v6//EN
BEGIN:VEVENT
UID:5d88470318554f2ecb8490bc@squarespace.com
DTSTAMP:20190923T042126Z
DTSTART:20190923T230000Z
DTEND:20191024T060000Z
SUMMARY:PSP40416 CERTIFICATE IV IN GOVERNMENT INVESTIGATIONS - LOCAL LAND S
 ERVICES
END:VEVENT
END:VCALENDAR
