BEGIN:VCALENDAR
VERSION:2.0
PRODID:-//Squarespace Inc/Squarespace 6//v6//EN
BEGIN:VEVENT
UID:5d8849ba051f486b3f4acf65@squarespace.com
DTSTAMP:20190923T042826Z
DTSTART:20200316T220000Z
DTEND:20200430T050000Z
SUMMARY:PSP40416 CERTIFICATE IV IN GOVERNMENT INVESTIGATIONS - LOCAL LAND S
 ERVICES
END:VEVENT
END:VCALENDAR
