BEGIN:VCALENDAR
VERSION:2.0
PRODID:-//Squarespace Inc/Squarespace 6//v6//EN
BEGIN:VEVENT
UID:5d8849f024ff875287cfd44f@squarespace.com
DTSTAMP:20200213T234159Z
DTSTART:20200511T230000Z
DTEND:20200604T070000Z
SUMMARY:PSP40416 CERTIFICATE IV IN GOVERNMENT INVESTIGATIONS - LOCAL LAND S
 ERVICES
END:VEVENT
END:VCALENDAR
