BEGIN:VCALENDAR
VERSION:2.0
PRODID:-//Squarespace Inc/Squarespace 6//v6//EN
BEGIN:VEVENT
UID:5a5fd6c453450a309777ff24@squarespace.com
DTSTAMP:20180614T031018Z
DTSTART:20180716T230000Z
DTEND:20180719T070000Z
SUMMARY:PSP40416 CERTIFICATE IV IN GOVERNMENT INVESTIGATIONS (WORKSHOP 2) F
 OR LLS OFFICERS
END:VEVENT
END:VCALENDAR
