BEGIN:VCALENDAR
VERSION:2.0
PRODID:-//Squarespace Inc/Squarespace 6//v6//EN
BEGIN:VEVENT
UID:5a5fd5d20d9297ee43f7e987@squarespace.com
DTSTAMP:20180607T023715Z
DTSTART:20180618T230000Z
DTEND:20180622T070000Z
SUMMARY:PSP40416 CERTIFICATE IV IN GOVERNMENT INVESTIGATIONS (WORKSHOP 1) F
 OR LLS OFFICERS
END:VEVENT
END:VCALENDAR
