BEGIN:VCALENDAR
VERSION:2.0
PRODID:-//Squarespace Inc/Squarespace 6//v6//EN
BEGIN:VEVENT
UID:5b064afa1ae6cfbad937222a@squarespace.com
DTSTAMP:20180717T055008Z
DTSTART:20180723T230000Z
DTEND:20180911T070000Z
SUMMARY:PSP40616 CERTIFICATE IV IN PROCUREMENT AND CONTRACTING
END:VEVENT
END:VCALENDAR
