BEGIN:VCALENDAR
VERSION:2.0
PRODID:-//Squarespace Inc/Squarespace 6//v6//EN
BEGIN:VEVENT
UID:5a5fd4d8652dea7c2773209b@squarespace.com
DTSTAMP:20180118T040714Z
DTSTART:20180430T230000Z
DTEND:20180503T070000Z
SUMMARY:BIOSECURITY ACT 2015 REGULATORY TRAINING BRIDGING COURSE FOR LLS OF
 FICERS
END:VEVENT
END:VCALENDAR
