BEGIN:VCALENDAR
VERSION:2.0
PRODID:-//Squarespace Inc/Squarespace 6//v6//EN
BEGIN:VEVENT
UID:5a5fcd148165f56df6fb706a@squarespace.com
DTSTAMP:20180220T021023Z
DTSTART:20180305T220000Z
DTEND:20180424T070000Z
SUMMARY:PSP40616 CERTIFICATE IV IN PROCUREMENT & CONTRACTING 
END:VEVENT
END:VCALENDAR
