BEGIN:VCALENDAR
VERSION:2.0
PRODID:-//Squarespace Inc/Squarespace 6//v6//EN
BEGIN:VEVENT
UID:5a5fd2d3c83025815ceb253c@squarespace.com
DTSTAMP:20180222T001626Z
DTSTART:20180313T220000Z
DTEND:20180316T060000Z
SUMMARY:BIOSECURITY ACT 2015 REGULATORY TRAINING BRIDGING COURSE FOR LLS OF
 FICERS 
END:VEVENT
END:VCALENDAR
