BEGIN:VCALENDAR
VERSION:2.0
PRODID:-//Squarespace Inc/Squarespace 6//v6//EN
BEGIN:VEVENT
UID:5b837fee0e2e72fa7801e06d@squarespace.com
DTSTAMP:20181018T031413Z
DTSTART:20181029T220000Z
DTEND:20181102T060000Z
SUMMARY:PSP40416 CERTIFICATE IV IN GOVERNMENT INVESTIGATIONS (WORKSHOP 1) O
 PEN COURSE
END:VEVENT
END:VCALENDAR
