BEGIN:VCALENDAR
VERSION:2.0
PRODID:-//Squarespace Inc/Squarespace 6//v6//EN
BEGIN:VEVENT
UID:5bc7fa859140b7397ee582b2@squarespace.com
DTSTAMP:20181207T050222Z
DTSTART:20190325T220000Z
DTEND:20190509T070000Z
SUMMARY:PSP40416 CERTIFICATE IV IN GOVERNMENT INVESTIGATIONS - OPEN COURSE
END:VEVENT
END:VCALENDAR
