BEGIN:VCALENDAR
VERSION:2.0
PRODID:-//Squarespace Inc/Squarespace 6//v6//EN
BEGIN:VEVENT
UID:5bfb75e0c2241bd5011b0909@squarespace.com
DTSTAMP:20181207T035623Z
DTSTART:20190218T220000Z
DTEND:20190322T070000Z
SUMMARY:PSP50416 DIPLOMA OF GOVERNMENT INVESTIGATIONS - OPEN COURSE
END:VEVENT
END:VCALENDAR
