BEGIN:VCALENDAR
VERSION:2.0
PRODID:-//Squarespace Inc/Squarespace 6//v6//EN
BEGIN:VEVENT
UID:5bfb86f8b8a045b4c03a47f8@squarespace.com
DTSTAMP:20181126T054856Z
DTSTART:20190212T220000Z
DTEND:20190410T070000Z
SUMMARY:PSP40616 CERTIFICATE IV IN PROCUREMENT AND CONTRACTING
END:VEVENT
END:VCALENDAR
