BEGIN:VCALENDAR
VERSION:2.0
PRODID:-//Squarespace Inc/Squarespace 6//v6//EN
BEGIN:VEVENT
UID:5bfb883e352f534626e28f49@squarespace.com
DTSTAMP:20181126T054545Z
DTSTART:20190325T220000Z
DTEND:20190723T070000Z
SUMMARY:PSP50616 DIPLOMA OF PROCUREMENT AND CONTRACTING
END:VEVENT
END:VCALENDAR
