BEGIN:VCALENDAR
VERSION:2.0
PRODID:-//Squarespace Inc/Squarespace 6//v6//EN
BEGIN:VEVENT
UID:5d884f2f170a95040095aa08@squarespace.com
DTSTAMP:20200213T234417Z
DTSTART:20200602T230000Z
DTEND:20200909T070000Z
SUMMARY:PSP50616 DIPLOMA OF PROCUREMENT AND CONTRACTING
END:VEVENT
END:VCALENDAR
