BEGIN:VCALENDAR
VERSION:2.0
PRODID:-//Squarespace Inc/Squarespace 6//v6//EN
BEGIN:VEVENT
UID:5d884f98170a95040095ae3a@squarespace.com
DTSTAMP:20200213T234600Z
DTSTART:20200211T220000Z
DTEND:20200520T070000Z
SUMMARY:PSP60616 ADVANCED DIPLOMA OF PROCUREMENT AND CONTRACTING
END:VEVENT
END:VCALENDAR
