BEGIN:VCALENDAR
VERSION:2.0
PRODID:-//Squarespace Inc/Squarespace 6//v6//EN
BEGIN:VEVENT
UID:5d884e818563c342c9117df3@squarespace.com
DTSTAMP:20200213T234508Z
DTSTART:20200210T220000Z
DTEND:20200407T070000Z
SUMMARY:PSP40616 CERTIFICATE IV IN PROCUREMENT AND CONTRACTING
END:VEVENT
END:VCALENDAR
