BEGIN:VCALENDAR
VERSION:2.0
PRODID:-//Squarespace Inc/Squarespace 6//v6//EN
BEGIN:VEVENT
UID:5bfb7a6903ce64e76c3173b1@squarespace.com
DTSTAMP:20181207T040055Z
DTSTART:20190224T220000Z
DTEND:20190301T060000Z
SUMMARY:COMPLIANCE AND REGULATORY TRAINING (BIOSECURITY ACT 2015) - LOCAL C
 ONTROL AUTHORITIES
END:VEVENT
END:VCALENDAR
