BEGIN:VCALENDAR
VERSION:2.0
PRODID:-//Squarespace Inc/Squarespace 6//v6//EN
BEGIN:VEVENT
UID:5d884de71ca51f5956c776ef@squarespace.com
DTSTAMP:20200213T233317Z
DTSTART:20200809T230000Z
DTEND:20200814T070000Z
SUMMARY:COMPLIANCE AND REGULATORY TRAINING (BIOSECURITY ACT 2015) - LOCAL C
 ONTROL AUTHORITIES
END:VEVENT
END:VCALENDAR
