BEGIN:VCALENDAR
VERSION:2.0
PRODID:-//Squarespace Inc/Squarespace 6//v6//EN
BEGIN:VEVENT
UID:5bfb7b940e2e72602509b51d@squarespace.com
DTSTAMP:20181207T041932Z
DTSTART:20190311T220000Z
DTEND:20190314T060000Z
SUMMARY:BIOSECURITY REGULATORY TRAINING REFRESHER COURSE - LOCAL CONTROL AU
 THORITIES
END:VEVENT
END:VCALENDAR
