BEGIN:VCALENDAR
VERSION:2.0
PRODID:-//Squarespace Inc/Squarespace 6//v6//EN
BEGIN:VEVENT
UID:5bfb7c0b8a922de88ef07b77@squarespace.com
DTSTAMP:20181207T052603Z
DTSTART:20190520T230000Z
DTEND:20190523T070000Z
SUMMARY:BIOSECURITY REGULATORY TRAINING REFRESHER COURSE - LOCAL CONTROL AU
 THORITIES
END:VEVENT
END:VCALENDAR
