BEGIN:VCALENDAR
VERSION:2.0
PRODID:-//Squarespace Inc/Squarespace 6//v6//EN
BEGIN:VEVENT
UID:5d884dabf6d26925054a81f2@squarespace.com
DTSTAMP:20200213T233110Z
DTSTART:20200517T230000Z
DTEND:20200522T070000Z
SUMMARY:COMPLIANCE AND REGULATORY TRAINING (BIOSECURITY ACT 2015) - LOCAL C
 ONTROL AUTHORITIES
END:VEVENT
END:VCALENDAR
