BEGIN:VCALENDAR
VERSION:2.0
PRODID:-//Squarespace Inc/Squarespace 6//v6//EN
BEGIN:VEVENT
UID:5d884ff9554f1124994b789b@squarespace.com
DTSTAMP:20190923T045640Z
DTSTART:20191119T220000Z
DTEND:20191121T060000Z
SUMMARY:CLIENT INTERACTION AND DEFENSIVE TACTICS LEVEL 1 (CIDT1)
END:VEVENT
END:VCALENDAR
