BEGIN:VCALENDAR
VERSION:2.0
PRODID:-//Squarespace Inc/Squarespace 6//v6//EN
BEGIN:VEVENT
UID:5d8850b594542e66766d7277@squarespace.com
DTSTAMP:20190923T045750Z
DTSTART:20200519T230000Z
DTEND:20200521T070000Z
SUMMARY:CLIENT INTERACTION AND DEFENSIVE TACTICS LEVEL 1 (CIDT1)
END:VEVENT
END:VCALENDAR
