BEGIN:VCALENDAR
VERSION:2.0
PRODID:-//Squarespace Inc/Squarespace 6//v6//EN
BEGIN:VEVENT
UID:5d88509326a1872029162530@squarespace.com
DTSTAMP:20200213T234759Z
DTSTART:20200310T220000Z
DTEND:20200312T060000Z
SUMMARY:CLIENT INTERACTION AND DEFENSIVE TACTICS LEVEL 1 (CIDT1)
END:VEVENT
END:VCALENDAR
