BEGIN:VCALENDAR
VERSION:2.0
PRODID:-//Squarespace Inc/Squarespace 6//v6//EN
BEGIN:VEVENT
UID:5dddd064499be068a55ba793@squarespace.com
DTSTAMP:20191127T012627Z
DTSTART:20200621T230000Z
DTEND:20200626T070000Z
SUMMARY:AML INVESTIGATION PROGRAM
END:VEVENT
END:VCALENDAR
