BEGIN:VCALENDAR
VERSION:2.0
PRODID:-//Squarespace Inc/Squarespace 6//v6//EN
BEGIN:VEVENT
UID:5a5fca8e9140b7dc2ecf7a78@squarespace.com
DTSTAMP:20180123T002838Z
DTSTART:20180205T220000Z
DTEND:20180208T060000Z
SUMMARY:BIOSECURITY ACT 2015 REGULATORY TRAINING BRIDGING COURSE FOR LLS OF
 FICERS
END:VEVENT
END:VCALENDAR
