BEGIN:VCALENDAR
VERSION:2.0
PRODID:-//Squarespace Inc/Squarespace 6//v6//EN
BEGIN:VEVENT
UID:5a5fd9049140b7dc2ed3b2f1@squarespace.com
DTSTAMP:20180117T232147Z
DTSTART:20180117T233000Z
DTEND:20180118T003000Z
SUMMARY:PSP40416 CERTIFICATE IV IN GOVERNMENT INVESTIGATIONS (WORKSHOP 2) O
 PEN COURSE
END:VEVENT
END:VCALENDAR
