BEGIN:VCALENDAR
VERSION:2.0
PRODID:-//Squarespace Inc/Squarespace 6//v6//EN
BEGIN:VEVENT
UID:5a5fd132f9619a142273d9e3@squarespace.com
DTSTAMP:20180117T224338Z
DTSTART:20180117T230000Z
DTEND:20180118T000000Z
SUMMARY:BIOSECURITY ACT 2015 REGULATORY TRAINING BRIDGING COURSE FOR LCA OF
 FICERS
END:VEVENT
END:VCALENDAR
